Workbook

Sheet Zeitplan
A1: Bezirk | B1: Lokal | C1: Dauer | D1: Von | E1: Bis | F1: Station Von | G1: Linie | H1: Station Nach | I1: Transfer | J1: Bemerkungen | K1: Alternative | L1: TelNr
A2: 23 | B2: Cafe Grande Breitenfurterstr. 238 1230 | C2: 0.0034722222 | D2: 0.41666667 | E2: =D2+C2 -> 0.42013889 | F2: Brunner Str./ Erlaaer Str. | G2: 66A, U6, U4, U1 | H2: VIC/Kaisermühlen | I2: 0.041666667 | J2: 66A 4 Stationen | K2: Cafe Fidelio Kirchenplatz 5 | L2: 01/8658398
A3: =A2-1 -> 22 | B3: Cafe Maxi Schüttaustr. 4/10 1220 | C3: 0.0069444444 | D3: =E2+I2 -> 0.46180556 | E3: =D3+C3 -> 0.46875 | F3: Schüttausstr. | G3: zu Fuß | H3: Morellig. | I3: 0.017361111 | K3: Cafe Teddy Schüttaustr. 16-18 | L3: 01/2691052
A4: =A3-1 -> 21 | B4: Strandgasthaus Birner An der ob. alt. Donau 47 1210 | C4: 0.0069444444 | D4: =E3+I3 -> 0.48611111 | E4: =D4+C4 -> 0.49305556 | F4: Morellig. | G4: 33A oder zu Fuss, 31 | H4: Wexstr. | I4: 0.017361111 | J4: 33A (12:10) bis Matthäus-J.-Str. 31 Richtung Schottenring bis Wexstr., vorne links | L4: 01/2715336
A5: =A4-1 -> 20 | B5: Cafe 100 Prozent Klosterneuburgerstr.68 1200 | C5: 0.0069444444 | D5: =E4+I4 -> 0.51041667 | E5: =D5+C5 -> 0.51736111 | F5: Wexstr. | G5: 35A | H5: Rodlerg. | I5: 0.020833333 | J5: zu Fuss bis Hardtg. 12:56 35A bis Rodlerg. dann Rodlerg. (N) | K5: Sportcafe 87 Klosterneuburgerstr. 87 | L5: 01/3325032
A6: =A5-1 -> 19 | B6: Falkensteiner Weinstube Rodlerg. 17A 1190 | C6: 0.010416667 | D6: =E5+I5 -> 0.53819444 | E6: =D6+C6 -> 0.54861111 | F6: Dänenstr. | G6: zu Fuss, 10A oder zu Fuss | H6: Türkenschanz- park | I6: 0.013888889 | J6: zu Fuss zu 10A (alle :x5) von Dänenstr.: (S) durch Hugo Wolf Park, dann bis Peter-Jordan-Str. | K6: Zur urigen GRUAM Saileckergasse 32 | L6: 01/3683144
A7: =A6-1 -> 18 | B7: Lounge Gersthof Gersthoferstr. 30 1180 | C7: 0.010416667 | D7: =E6+I6 -> 0.5625 | E7: =D7+C7 -> 0.57291667 | F7: Türkenschanz- park | G7: 10A oder zu Fuss | H7: Hernals, Wattg. | I7: 0.010416667 | L7: 01/4795990
A8: =A7-1 -> 17 | B8: Cafe Defizit Schadinag. 1 1170 | C8: 0.010416667 | D8: =E7+I7 -> 0.58333333 | E8: =D8+C8 -> 0.59375 | F8: Hernals, Wattg. | G8: zu Fuß | H8: Wattg. | I8: 0.0069444444 | L8: 0660/4151681
A9: =A8-1 -> 16 | B9: Conny's Cafe Restaurant Wattg. 49 1160 | C9: 0.010416667 | D9: =E8+I8 -> 0.60069444 | E9: =D9+C9 -> 0.61111111 | F9: Albrechtskreith- g. | G9: 10A | H9: Johnstr./ Märzstr. | I9: 0.013888889 | J9: 9 Stationen (alle :x4) | L9: 01/9571518
A10: =A9-1 -> 15 | B10: Cafe Tea Johnstr. 17 1150 | C10: 0.010416667 | D10: =E9+I9 -> 0.625 | E10: =D10+C10 -> 0.63541667 | F10: Kranzgasse | G10: zu Fuß | H10: Linzer Str./ Reindlg. | I10: 0.010416667 | K10: Cafe Pub Meiselstr. 11
A11: =A10-1 -> 14 | B11: Kleines Cafe Linzerstr. 48 1140 | C11: 0.010416667 | D11: =E10+I10 -> 0.64583333 | E11: =D11+C11 -> 0.65625 | F11: Linzer Str./ Reindlg. | G11: 10 | H11: Schloß Schönbrunn | I11: 0.0069444444 | J11: 10 (alle :x1) | K11: Cafe Mina (=Espresso Jägerstüberl (01/9854352)) Linzerstr. 53 | L11: 01/9854574
A12: =A11-1 -> 13 | B12: Cafe Restaurant Kutscher Gwölb Schloss Schönbrunn 1130 | C12: 0.010416667 | D12: =E11+I11 -> 0.66319444 | E12: =D12+C12 -> 0.67361111 | F12: Schönbrunn | G12: zu Fuss | H12: Hilscherg. | I12: 0.010416667 | L12: 01/877221612
A13: =A12-1 -> 12 | B13: Cafe Sapperlott Hilscherg. 24 1120 | C13: 0.010416667 | D13: =E12+I12 -> 0.68402778 | E13: =D13+C13 -> 0.69444444 | F13: Meidling | G13: S80 | H13: Simmering | I13: 0.020833333 | J13: S80 um 16:49; alle 30min zu Fuss bis Meidling und ab Simmering | L13: 01/8049227
A14: =A13-1 -> 11 | B14: Cafe Dany Krauseg. 2A 1110 | C14: 0.010416667 | D14: =E13+I13 -> 0.71527778 | E14: =D14+C14 -> 0.72569444 | F14: Gottschalkg./ Enkplatz | G14: 11 | H14: Reumannplatz | I14: 0.017361111 | J14: 11 (:12, :20, :27, :35, :42, :50) ab Reumannplatz zu Fuss | K14: Cafe Albrecht Simmeringer Hptstr. 121 | L14: 0699/12190760
A15: =A14-1 -> 10 | B15: Lillys Weinstube Viktor-Adlermarkt 65/66 1100 | C15: 0.010416667 | D15: =E14+I14 -> 0.74305556 | E15: =D15+C15 -> 0.75347222 | F15: Keplerplatz | G15: U1, U2, zu Fuß | H15: Schottentor | I15: 0.020833333 | K15: Cafe Caktus 1 Senefelderg. 2
A16: =A15-1 -> 9 | B16: Uni Alm Hörlg. 10 1090 | C16: 0.013888889 | D16: =E15+I15 -> 0.77430556 | E16: =D16+C16 -> 0.78819444 | F16: Schottentor | G16: zu Fuß | H16: Auerspergstr. | I16: 0.013888889 | J16: öffnet um 18h | K16: Cafe Votiv Kino Währinger Str. 12 | L16: 0660/6804879
A17: =A16-1 -> 8 | B17: Cafe Auersperg Auerspergstr. 19 1080 | C17: 0.013888889 | D17: =E16+I16 -> 0.80208333 | E17: =D17+C17 -> 0.81597222 | F17: Auerspergstr. | G17: zu Fuß | H17: St. Ulrichs- Platz | I17: 0.0069444444 | J17: Blauensteiner laut Tonband täglich bis 22:30 geöffnet | K17: Gastwirtschaft Blauensteiner Lenaug. 1 | L17: 01/4025060
A18: =A17-1 -> 7 | B18: Cafe Morgenstern St. Ulrichs-Platz 5 1070 | C18: 0.013888889 | D18: =E17+I17 -> 0.82291667 | E18: =D18+C18 -> 0.83680556 | F18: St. Ulrichs- Platz | G18: zu Fuß | H18: Otto-Bauer- Gasse | I18: 0.013888889 | L18: 01/5223528
A19: =A18-1 -> 6 | B19: Heinzis Beisl Otto-Bauer-Gasse 5 1060 | C19: 0.013888889 | D19: =E18+I18 -> 0.85069444 | E19: =D19+C19 -> 0.86458333 | F19: Otto-Bauer- Gasse | G19: zu Fuß | H19: Schönbrunner Str. | I19: 0.0069444444 | K19: Down Under Magdalenenstr. 32 | L19: 01/5972502
A20: =A19-1 -> 5 | B20: Cafe Infinity Schönbrunner Str. 27 1050 | C20: 0.013888889 | D20: =E19+I19 -> 0.87152778 | E20: =D20+C20 -> 0.88541667 | F20: Schönbrunner Str. | G20: zu Fuß | H20: Margaretenstr. | I20: 0.0069444444 | K20: Cafe Galerie Schönbrunner Str. 22 | L20: 0660/5069541
A21: =A20-1 -> 4 | B21: Die Bank Margaretenstr. 42 1040 | C21: 0.013888889 | D21: =E20+I20 -> 0.89236111 | E21: =D21+C21 -> 0.90625 | F21: Karlsplatz | G21: 4A | H21: Rasumofskyg. | I21: 0.020833333 | K21: Club-U Künstlerhauspassage | L21: 01/5850634
A22: =A21-1 -> 3 | B22: The Tube Station Löweng. 51 1030 | C22: 0.013888889 | D22: =E21+I21 -> 0.92708333 | E22: =D22+C22 -> 0.94097222 | F22: Löweng. | G22: 1 | H22: Salztorbrücke | I22: 0.013888889
A23: =A22-1 -> 2 | B23: Adria Obere Donaustr. 77 1020 | C23: 0.013888889 | D23: =E22+I22 -> 0.95486111 | E23: =D23+C23 -> 0.96875 | F23: Obere Donaustr. | G23: zu Fuß | H23: Hafnersteig | I23: 0.0069444444 | J23: vorher anrufen, könnten bei Schlechtwetter vorher schließen | L23: 0660/1271784
A24: =A23-1 -> 1 | B24: Beer Saloon Hafnersteig 1010 | C24: 0.013888889 | D24: =E23+I23 -> 0.97569444 | F24: XXXXX | K24: Rainers Bar Postg. 11 | L24: 0680/2011428
B25: Summe Lokalzeit | C25: =SUM(C2:C24) -> 0.25347222 | H25: Summe Transferzeit | I25: =SUM(I2:I24) -> 0.31944444

Sheet Stempelkarte
A1: # | B1: Lokal | C1: SOLL | D1: IST | E1: Bier / Preis | F1: WC
A2: 23 | B2: =Zeitplan!B2 -> Cafe Grande Breitenfurterstr. 238 1230 | C2: =Zeitplan!$D$2 -> 0.41666667
C3: ---
C4: =Zeitplan!$E$2 -> 0.42013889
A5: =A2-1 -> 22 | B5: =Zeitplan!B3 -> Cafe Maxi Schüttaustr. 4/10 1220 | C5: =Zeitplan!$D$3 -> 0.46180556
C6: ---
C7: =Zeitplan!$E$3 -> 0.46875
A8: =A5-1 -> 21 | B8: =Zeitplan!B4 -> Strandgasthaus Birner An der ob. alt. Donau 47 1210 | C8: =Zeitplan!$D$4 -> 0.48611111
C9: ---
C10: =Zeitplan!$E$4 -> 0.49305556
A11: =A8-1 -> 20 | B11: =Zeitplan!B5 -> Cafe 100 Prozent Klosterneuburgerstr.68 1200 | C11: =Zeitplan!$D$5 -> 0.51041667
C12: ---
C13: =Zeitplan!$E$5 -> 0.51736111
A14: =A11-1 -> 19 | B14: =Zeitplan!B6 -> Falkensteiner Weinstube Rodlerg. 17A 1190 | C14: =Zeitplan!$D$6 -> 0.53819444
C15: ---
C16: =Zeitplan!$E$6 -> 0.54861111
A18: # | B18: Lokal | C18: SOLL | D18: IST | E18: Bier / Preis | F18: WC
A19: =A14-1 -> 18 | B19: =Zeitplan!B7 -> Lounge Gersthof Gersthoferstr. 30 1180 | C19: =Zeitplan!$D$7 -> 0.5625
C20: ---
C21: =Zeitplan!$E$7 -> 0.57291667
A22: =A19-1 -> 17 | B22: =Zeitplan!B8 -> Cafe Defizit Schadinag. 1 1170 | C22: =Zeitplan!$D$8 -> 0.58333333
C23: ---
C24: =Zeitplan!$E$8 -> 0.59375
A25: =A22-1 -> 16 | B25: =Zeitplan!B9 -> Conny's Cafe Restaurant Wattg. 49 1160 | C25: =Zeitplan!$D$9 -> 0.60069444
C26: ---
C27: =Zeitplan!$E$9 -> 0.61111111
A28: =A25-1 -> 15 | B28: =Zeitplan!B10 -> Cafe Tea Johnstr. 17 1150 | C28: =Zeitplan!$D$10 -> 0.625
C29: ---
C30: =Zeitplan!$E$10 -> 0.63541667
A31: =A28-1 -> 14 | B31: =Zeitplan!B11 -> Kleines Cafe Linzerstr. 48 1140 | C31: =Zeitplan!$D$11 -> 0.64583333
C32: ---
C33: =Zeitplan!$E$11 -> 0.65625
A34: # | B34: Lokal | C34: SOLL | D34: IST | E34: Bier / Preis | F34: WC
A35: =A31-1 -> 13 | B35: =Zeitplan!B12 -> Cafe Restaurant Kutscher Gwölb Schloss Schönbrunn 1130 | C35: =Zeitplan!$D$12 -> 0.66319444
C36: ---
C37: =Zeitplan!$E$12 -> 0.67361111
A38: =A35-1 -> 12 | B38: =Zeitplan!B13 -> Cafe Sapperlott Hilscherg. 24 1120 | C38: =Zeitplan!$D$13 -> 0.68402778
C39: ---
C40: =Zeitplan!$E$13 -> 0.69444444
A41: =A38-1 -> 11 | B41: =Zeitplan!B14 -> Cafe Dany Krauseg. 2A 1110 | C41: =Zeitplan!$D$14 -> 0.71527778
C42: ---
C43: =Zeitplan!$E$14 -> 0.72569444
A44: =A41-1 -> 10 | B44: =Zeitplan!B15 -> Lillys Weinstube Viktor-Adlermarkt 65/66 1100 | C44: =Zeitplan!$D$15 -> 0.74305556
C45: ---
C46: =Zeitplan!$E$15 -> 0.75347222
A47: =A44-1 -> 9 | B47: =Zeitplan!B16 -> Uni Alm Hörlg. 10 1090 | C47: =Zeitplan!$D$16 -> 0.77430556
C48: ---
C49: =Zeitplan!$E$16 -> 0.78819444
A51: # | B51: Lokal | C51: SOLL | D51: IST | E51: Bier / Preis | F51: WC
A52: =A47-1 -> 8 | B52: =Zeitplan!B17 -> Cafe Auersperg Auerspergstr. 19 1080 | C52: =Zeitplan!$D$17 -> 0.80208333
C53: ---
C54: =Zeitplan!$E$17 -> 0.81597222
A55: =A52-1 -> 7 | B55: =Zeitplan!B18 -> Cafe Morgenstern St. Ulrichs-Platz 5 1070 | C55: =Zeitplan!$D$18 -> 0.82291667
C56: ---
C57: =Zeitplan!$E$18 -> 0.83680556
A58: =A55-1 -> 6 | B58: =Zeitplan!B19 -> Heinzis Beisl Otto-Bauer-Gasse 5 1060 | C58: =Zeitplan!$D$19 -> 0.85069444
C59: ---
C60: =Zeitplan!$E$19 -> 0.86458333
A61: =A58-1 -> 5 | B61: =Zeitplan!B20 -> Cafe Infinity Schönbrunner Str. 27 1050 | C61: =Zeitplan!$D$20 -> 0.87152778
C62: ---
C63: =Zeitplan!$E$20 -> 0.88541667
A64: =A61-1 -> 4 | B64: =Zeitplan!B21 -> Die Bank Margaretenstr. 42 1040 | C64: =Zeitplan!$D$21 -> 0.89236111
C65: ---
C66: =Zeitplan!$E$21 -> 0.90625
A67: # | B67: Lokal | C67: SOLL | D67: IST | E67: Bier / Preis | F67: WC
A68: =A64-1 -> 3 | B68: =Zeitplan!B22 -> The Tube Station Löweng. 51 1030 | C68: =Zeitplan!$D$22 -> 0.92708333
C69: ---
C70: =Zeitplan!$E$22 -> 0.94097222
A71: =A68-1 -> 2 | B71: =Zeitplan!B23 -> Adria Obere Donaustr. 77 1020 | C71: =Zeitplan!$D$23 -> 0.95486111
C72: ---
C73: =Zeitplan!$E$23 -> 0.96875
A74: =A71-1 -> 1 | B74: =Zeitplan!B24 -> Beer Saloon Hafnersteig 1010 | C74: =Zeitplan!$D$24 -> 0.97569444
C75: ---

Sheet Zeitplan Druckversion
A1: Bezirk | B1: Lokal | C1: Dauer | D1: Von | E1: Bis | F1: Station Von | G1: Linie | H1: Station Nach | I1: Transfer | J1: Bemerkungen
A2: =Zeitplan!A2 -> 23 | B2: =Zeitplan!B2 -> Cafe Grande Breitenfurterstr. 238 1230 | C2: =Zeitplan!C2 -> 0.0034722222 | D2: =Zeitplan!D2 -> 0.41666667 | E2: =Zeitplan!E2 -> 0.42013889 | F2: =Zeitplan!F2 -> Brunner Str./ Erlaaer Str. | G2: =Zeitplan!G2 -> 66A, U6, U4, U1 | H2: =Zeitplan!H2 -> VIC/Kaisermühlen | ... J2: =Zeitplan!J2 -> 66A 4 Stationen
A3: =Zeitplan!A3 -> 22 | B3: =Zeitplan!B3 -> Cafe Maxi Schüttaustr. 4/10 1220 | C3: =Zeitplan!C3 -> 0.0069444444 | D3: =Zeitplan!D3 -> 0.46180556 | E3: =Zeitplan!E3 -> 0.46875 | F3: =Zeitplan!F3 -> Schüttausstr. | G3: =Zeitplan!G3 -> zu Fuß | H3: =Zeitplan!H3 -> Morellig. | ... J3: =Zeitplan!J3 -> 0
A4: =Zeitplan!A4 -> 21 | B4: =Zeitplan!B4 -> Strandgasthaus Birner An der ob. alt. Donau 47 1210 | C4: =Zeitplan!C4 -> 0.0069444444 | D4: =Zeitplan!D4 -> 0.48611111 | E4: =Zeitplan!E4 -> 0.49305556 | F4: =Zeitplan!F4 -> Morellig. | G4: =Zeitplan!G4 -> 33A oder zu Fuss, 31 | H4: =Zeitplan!H4 -> Wexstr. | ... J4: =Zeitplan!J4 -> 33A (12:10) bis Matthäus-J.-Str. 31 Richtung Schottenring bis Wexstr., vorne links
A5: =Zeitplan!A5 -> 20 | B5: =Zeitplan!B5 -> Cafe 100 Prozent Klosterneuburgerstr.68 1200 | C5: =Zeitplan!C5 -> 0.0069444444 | D5: =Zeitplan!D5 -> 0.51041667 | E5: =Zeitplan!E5 -> 0.51736111 | F5: =Zeitplan!F5 -> Wexstr. | G5: =Zeitplan!G5 -> 35A | H5: =Zeitplan!H5 -> Rodlerg. | ... J5: =Zeitplan!J5 -> zu Fuss bis Hardtg. 12:56 35A bis Rodlerg. dann Rodlerg. (N)
A6: =Zeitplan!A6 -> 19 | B6: =Zeitplan!B6 -> Falkensteiner Weinstube Rodlerg. 17A 1190 | C6: =Zeitplan!C6 -> 0.010416667 | D6: =Zeitplan!D6 -> 0.53819444 | E6: =Zeitplan!E6 -> 0.54861111 | F6: =Zeitplan!F6 -> Dänenstr. | G6: =Zeitplan!G6 -> zu Fuss, 10A oder zu Fuss | H6: =Zeitplan!H6 -> Türkenschanz- park | ... J6: =Zeitplan!J6 -> zu Fuss zu 10A (alle :x5) von Dänenstr.: (S) durch Hugo Wolf Park, dann bis Peter-Jordan-Str.
A7: =Zeitplan!A7 -> 18 | B7: =Zeitplan!B7 -> Lounge Gersthof Gersthoferstr. 30 1180 | C7: =Zeitplan!C7 -> 0.010416667 | D7: =Zeitplan!D7 -> 0.5625 | E7: =Zeitplan!E7 -> 0.57291667 | F7: =Zeitplan!F7 -> Türkenschanz- park | G7: =Zeitplan!G7 -> 10A oder zu Fuss | H7: =Zeitplan!H7 -> Hernals, Wattg. | ... J7: =Zeitplan!J7 -> 0
A8: =Zeitplan!A8 -> 17 | B8: =Zeitplan!B8 -> Cafe Defizit Schadinag. 1 1170 | C8: =Zeitplan!C8 -> 0.010416667 | D8: =Zeitplan!D8 -> 0.58333333 | E8: =Zeitplan!E8 -> 0.59375 | F8: =Zeitplan!F8 -> Hernals, Wattg. | G8: =Zeitplan!G8 -> zu Fuß | H8: =Zeitplan!H8 -> Wattg. | ... J8: =Zeitplan!J8 -> 0
A9: =Zeitplan!A9 -> 16 | B9: =Zeitplan!B9 -> Conny's Cafe Restaurant Wattg. 49 1160 | C9: =Zeitplan!C9 -> 0.010416667 | D9: =Zeitplan!D9 -> 0.60069444 | E9: =Zeitplan!E9 -> 0.61111111 | F9: =Zeitplan!F9 -> Albrechtskreith- g. | G9: =Zeitplan!G9 -> 10A | H9: =Zeitplan!H9 -> Johnstr./ Märzstr. | ... J9: =Zeitplan!J9 -> 9 Stationen (alle :x4)
A10: =Zeitplan!A10 -> 15 | B10: =Zeitplan!B10 -> Cafe Tea Johnstr. 17 1150 | C10: =Zeitplan!C10 -> 0.010416667 | D10: =Zeitplan!D10 -> 0.625 | E10: =Zeitplan!E10 -> 0.63541667 | F10: =Zeitplan!F10 -> Kranzgasse | G10: =Zeitplan!G10 -> zu Fuß | H10: =Zeitplan!H10 -> Linzer Str./ Reindlg. | ... J10: =Zeitplan!J10 -> 0
A11: =Zeitplan!A11 -> 14 | B11: =Zeitplan!B11 -> Kleines Cafe Linzerstr. 48 1140 | C11: =Zeitplan!C11 -> 0.010416667 | D11: =Zeitplan!D11 -> 0.64583333 | E11: =Zeitplan!E11 -> 0.65625 | F11: =Zeitplan!F11 -> Linzer Str./ Reindlg. | G11: =Zeitplan!G11 -> 10 | H11: =Zeitplan!H11 -> Schloß Schönbrunn | ... J11: =Zeitplan!J11 -> 10 (alle :x1)
A12: =Zeitplan!A12 -> 13 | B12: =Zeitplan!B12 -> Cafe Restaurant Kutscher Gwölb Schloss Schönbrunn 1130 | C12: =Zeitplan!C12 -> 0.010416667 | D12: =Zeitplan!D12 -> 0.66319444 | E12: =Zeitplan!E12 -> 0.67361111 | F12: =Zeitplan!F12 -> Schönbrunn | G12: =Zeitplan!G12 -> zu Fuss | H12: =Zeitplan!H12 -> Hilscherg. | ... J12: =Zeitplan!J12 -> 0
A13: =Zeitplan!A13 -> 12 | B13: =Zeitplan!B13 -> Cafe Sapperlott Hilscherg. 24 1120 | C13: =Zeitplan!C13 -> 0.010416667 | D13: =Zeitplan!D13 -> 0.68402778 | E13: =Zeitplan!E13 -> 0.69444444 | F13: =Zeitplan!F13 -> Meidling | G13: =Zeitplan!G13 -> S80 | H13: =Zeitplan!H13 -> Simmering | ... J13: =Zeitplan!J13 -> S80 um 16:49; alle 30min zu Fuss bis Meidling und ab Simmering
... A23: =Zeitplan!A23 -> 2 | B23: =Zeitplan!B23 -> Adria Obere Donaustr. 77 1020 | C23: =Zeitplan!C23 -> 0.013888889 | D23: =Zeitplan!D23 -> 0.95486111 | E23: =Zeitplan!E23 -> 0.96875 | F23: =Zeitplan!F23 -> Obere Donaustr. | G23: =Zeitplan!G23 -> zu Fuß | H23: =Zeitplan!H23 -> Hafnersteig | ... J23: =Zeitplan!J23 -> vorher anrufen, könnten bei Schlechtwetter vorher schließen
A24: =Zeitplan!A24 -> 1 | B24: =Zeitplan!B24 -> Beer Saloon Hafnersteig 1010 | C24: =Zeitplan!C24 -> 0.013888889 | D24: =Zeitplan!D24 -> 0.97569444 | F24: =Zeitplan!F24 -> XXXXX | J24: =Zeitplan!J24 -> 0
B25: Summe Lokalzeit | C25: =Zeitplan!C25 -> 0.25347222 | H25: Summe Transferzeit | I25: =Zeitplan!I25 -> 0.31944444
